BEGIN:VCALENDAR
VERSION:2.0
PRODID:-//Stamped Treasures, Sherry Roth, Stampin&#039; Up! Demonstrator - ECPv6.15.17.1//NONSGML v1.0//EN
CALSCALE:GREGORIAN
METHOD:PUBLISH
X-WR-CALNAME:Stamped Treasures, Sherry Roth, Stampin&#039; Up! Demonstrator
X-ORIGINAL-URL:https://stampedtreasures.com
X-WR-CALDESC:Events for Stamped Treasures, Sherry Roth, Stampin&#039; Up! Demonstrator
REFRESH-INTERVAL;VALUE=DURATION:PT1H
X-Robots-Tag:noindex
X-PUBLISHED-TTL:PT1H
BEGIN:VTIMEZONE
TZID:America/Edmonton
BEGIN:DAYLIGHT
TZOFFSETFROM:-0700
TZOFFSETTO:-0600
TZNAME:MDT
DTSTART:20250309T090000
END:DAYLIGHT
BEGIN:STANDARD
TZOFFSETFROM:-0600
TZOFFSETTO:-0700
TZNAME:MST
DTSTART:20251102T080000
END:STANDARD
BEGIN:DAYLIGHT
TZOFFSETFROM:-0700
TZOFFSETTO:-0600
TZNAME:MDT
DTSTART:20260308T090000
END:DAYLIGHT
BEGIN:STANDARD
TZOFFSETFROM:-0600
TZOFFSETTO:-0700
TZNAME:MST
DTSTART:20261101T080000
END:STANDARD
BEGIN:DAYLIGHT
TZOFFSETFROM:-0700
TZOFFSETTO:-0600
TZNAME:MDT
DTSTART:20270314T090000
END:DAYLIGHT
BEGIN:STANDARD
TZOFFSETFROM:-0600
TZOFFSETTO:-0700
TZNAME:MST
DTSTART:20271107T080000
END:STANDARD
END:VTIMEZONE
BEGIN:VEVENT
DTSTART;TZID=America/Edmonton:20260320T130000
DTEND;TZID=America/Edmonton:20260320T153000
DTSTAMP:20260422T080116
CREATED:20260305T170456Z
LAST-MODIFIED:20260309T200421Z
UID:28479-1774011600-1774020600@stampedtreasures.com
SUMMARY:Filled with Sweetness Stepped Up Card Class
DESCRIPTION:Filled with Sweetness Stepped Up Card ClassDate: Friday\, March 20th from 1 to 3pm (in person)Registration Deadline: March 11th\, 2026Cost: $45 per person (+ $7 shipping if needed)Location: class will be held in Sherwood Park (address emailed to registrants the week of class) \nOne of my favourite new collections is the Homemade Sweetness suite of products so you’ll be seeing lots of inspiration using this collection. In this class we’ll be creating 3 beautiful cards using products from this suite. These will be stepped up cards (different from the ones that we’ll be creating in the Filled with Sweetness class to go. \n \nClass fee is $45 and includes: \n\n1/2 package of the Homemade Sweetness DSP\nA package of the Strawberries & Dots\n2 yards of the Misty Moonlight 1/4″ Checkered Trim\nPre-cut card kits to create 3 stepped up cards\nEmailed tutorial with photos\, measurements and links to the videos showing you how to create the cards.\n\nWant to do both this class and the class to go? This will get you a total of 9 cards using this collection of products! Cost for both is just $60 and includes BOTH tutorials ($35 value) and all the pre-cut pieces. You will need the Filled with Sweetness bundle\, the Made with Sweetness dies and coordinating ink pads in order to complete the projects. \nThis class is available in person or to go. Shipping is an additional $7 if kit requires shipping. \nRegister here \nLive outside of Canada? Purchase the tutorial here. \nHope to see you in class!
URL:https://stampedtreasures.com/event/filled-with-sweetness-stepped-up-card-class/
LOCATION:Sherry’s Stamp Studio
CATEGORIES:Card Classes
ATTACH;FMTTYPE=image/jpeg:https://stampedtreasures.com/wp-content/uploads/2026/03/Filled-with-Sweetness-Stepped-Up-Card-Class.jpg
ORGANIZER;CN="Sherry Roth":MAILTO:sherry@stampedtreasures.com
END:VEVENT
BEGIN:VEVENT
DTSTART;TZID=America/Edmonton:20260328T130000
DTEND;TZID=America/Edmonton:20260328T160000
DTSTAMP:20260422T080116
CREATED:20260113T163732Z
LAST-MODIFIED:20260317T105930Z
UID:28158-1774702800-1774713600@stampedtreasures.com
SUMMARY:Cookies & Cards Class
DESCRIPTION:Cookies & Cards ClassDate: Saturday\, March 28th from 1 to 4pmRegistration Deadline: March 19th (or when spots have been filled)Cost: $54 per personLocation: class will be held in Sherwood Park (address emailed to registrants the week of class) \nJoin us for a cozy afternoon of creativity and fun! I’m partnering with Sharron from Made with Love Cookie Creations for another cookies & cards class! In class we’ll decorate 3 delicious cookies (and you’ll receive 3 more to take home) and craft 4 beautiful all occasion cards — perfect for gifting or keeping! \n What’s included: \n\n\nStep-by-step instruction for decorating festive cookies \n\n\nAll supplies to create 4 unique cards (all you need is adhesive) \n\n\n3 cookies to decorate and 3 cookies to take home and decorate \n\n\nLots of laughter and inspiration! \n\n\nWant to keep the cookie magic going?Extra cookie kits are available for $25 — includes all the supplies you need to decorate at home. Must be ordered at the time of registration. \nSpots are limited!Reserve your seat today. \nHope to see you in class! \nSherry & Sharron
URL:https://stampedtreasures.com/event/cookies-cards-class/
LOCATION:Sherry’s Stamp Studio
CATEGORIES:Card Classes
ATTACH;FMTTYPE=image/jpeg:https://stampedtreasures.com/wp-content/uploads/2026/01/Tags-More-Card-Tutorial.jpg
ORGANIZER;CN="Sherry Roth":MAILTO:sherry@stampedtreasures.com
END:VEVENT
END:VCALENDAR