BEGIN:VCALENDAR
VERSION:2.0
PRODID:-//Stamped Treasures, Sherry Roth, Stampin&#039; Up! Demonstrator - ECPv6.15.17.1//NONSGML v1.0//EN
CALSCALE:GREGORIAN
METHOD:PUBLISH
X-ORIGINAL-URL:https://stampedtreasures.com
X-WR-CALDESC:Events for Stamped Treasures, Sherry Roth, Stampin&#039; Up! Demonstrator
REFRESH-INTERVAL;VALUE=DURATION:PT1H
X-Robots-Tag:noindex
X-PUBLISHED-TTL:PT1H
BEGIN:VTIMEZONE
TZID:America/Edmonton
BEGIN:DAYLIGHT
TZOFFSETFROM:-0700
TZOFFSETTO:-0600
TZNAME:MDT
DTSTART:20250309T090000
END:DAYLIGHT
BEGIN:STANDARD
TZOFFSETFROM:-0600
TZOFFSETTO:-0700
TZNAME:MST
DTSTART:20251102T080000
END:STANDARD
BEGIN:DAYLIGHT
TZOFFSETFROM:-0700
TZOFFSETTO:-0600
TZNAME:MDT
DTSTART:20260308T090000
END:DAYLIGHT
BEGIN:STANDARD
TZOFFSETFROM:-0600
TZOFFSETTO:-0700
TZNAME:MST
DTSTART:20261101T080000
END:STANDARD
BEGIN:DAYLIGHT
TZOFFSETFROM:-0700
TZOFFSETTO:-0600
TZNAME:MDT
DTSTART:20270314T090000
END:DAYLIGHT
BEGIN:STANDARD
TZOFFSETFROM:-0600
TZOFFSETTO:-0700
TZNAME:MST
DTSTART:20271107T080000
END:STANDARD
END:VTIMEZONE
BEGIN:VEVENT
DTSTART;TZID=America/Edmonton:20260220T130000
DTEND;TZID=America/Edmonton:20260220T153000
DTSTAMP:20260422T100512
CREATED:20260113T172528Z
LAST-MODIFIED:20260120T041107Z
UID:28167-1771592400-1771601400@stampedtreasures.com
SUMMARY:Lovely Blossoms Card Class
DESCRIPTION:Lovely Blossoms Card ClassDate: Friday\, February 20th from 1 to 3pmRegistration Deadline: February 9th Cost: $45 per person (+ $7 shipping if needed)Location: class will be held in Sherwood Park (address emailed to registrants the week of class) \nOne of my favourite new collections is the Lovely Blossoms suite of products so you’ll be seeing lots of inspiration using this collection. In this class we’ll be creating 3 beautiful cards using products from this suite. These will be stepped up cards (different from the ones that we’ll be creating in the Lovely Blossoms class to go. \n \nYour class fee of $45 includes:\n\n1/2 package of the Lovely Blossoms DSP\nA package of the Moody Palette Glossy Dots\n2 yards of the Cloud Cover 5/8″ Textured Ribbon\nPre-cut pieces needed to create the 3 cards (sneak peek coming soon)\n\nReserve your seat in class! \nWant to do both this class and the class to go? This will get you a total of 9 cards using this collection of products! Cost for both is just $60 and includes BOTH tutorials ($35 value) and all the pre-cut pieces. You will need the Lovely Arrangements bundle and coordinating ink pads in order to complete the projects. Find out more about this option here. NOTE: registration for this option closes February 1st. \nThis class is available in person or to go. Shipping is an additional $7 if kit requires shipping. \nLive outside of Canada? Purchase the tutorial here. \nRegister today. \nHope to see you in class! \n \n  \n 
URL:https://stampedtreasures.com/event/lovely-blossoms-card-class/
LOCATION:Sherry’s Stamp Studio
CATEGORIES:Card Classes
ATTACH;FMTTYPE=image/jpeg:https://stampedtreasures.com/wp-content/uploads/2026/01/Lovely-Blossoms-Card-Class.jpg
ORGANIZER;CN="Sherry Roth":MAILTO:sherry@stampedtreasures.com
END:VEVENT
BEGIN:VEVENT
DTSTART;TZID=America/Edmonton:20260228T100000
DTEND;TZID=America/Edmonton:20260228T220000
DTSTAMP:20260422T100512
CREATED:20260113T170817Z
LAST-MODIFIED:20260113T171406Z
UID:28161-1772272800-1772316000@stampedtreasures.com
SUMMARY:One Day Crop
DESCRIPTION:One Day CropDate: Saturday\, February 28th from 10am to 10pmRegistration Deadline: February 16th (or when spots have been filled) – only 2 spots left!Cost: $45 Location: class will be held in my Sherwood Park home – in my basement crafting space  (address emailed to registrants the week of class) \nDo you have projects you’d like to work on but just can’t find the time\, or focus\, to do them at home? Come join my one day crop where you bring your projects and supplies and have dedicated crafting time. \nCrop fee of $45 includes: \n\n12 hours of dedicated crafting time\nEach crafter will have their own 5′ table for crafting\nA delicious home cooked dinner\nSnacks\, coffee\, tea and water\nA special gift from em (valued between $10 and $15)\n\nSpace is limited to 6 croppers. Please bring a bagged lunch. \nI have a selection of cash & carry items available to purchase (kits\, pattern paper\, 12×12 card stock\, adhesive etc.) However\, you’ll want to bring the supplies you need for the project(s) you are working on. \nOnly 2 spots left! Reserve yours today. \nMark your calendars for these future one day crops: \n\nSaturday April 18th\, 2026\nSaturday June 20th\, 2026\n\nSherry \n 
URL:https://stampedtreasures.com/event/one-day-crop/
LOCATION:Sherry’s Stamp Studio
CATEGORIES:Crop
ATTACH;FMTTYPE=image/jpeg:https://stampedtreasures.com/wp-content/uploads/2026/01/One-Day-Crop.jpg
ORGANIZER;CN="Sherry Roth":MAILTO:sherry@stampedtreasures.com
END:VEVENT
END:VCALENDAR