BEGIN:VCALENDAR
VERSION:2.0
PRODID:-//Stamped Treasures, Sherry Roth, Stampin&#039; Up! Demonstrator - ECPv6.15.17.1//NONSGML v1.0//EN
CALSCALE:GREGORIAN
METHOD:PUBLISH
X-WR-CALNAME:Stamped Treasures, Sherry Roth, Stampin&#039; Up! Demonstrator
X-ORIGINAL-URL:https://stampedtreasures.com
X-WR-CALDESC:Events for Stamped Treasures, Sherry Roth, Stampin&#039; Up! Demonstrator
REFRESH-INTERVAL;VALUE=DURATION:PT1H
X-Robots-Tag:noindex
X-PUBLISHED-TTL:PT1H
BEGIN:VTIMEZONE
TZID:America/Edmonton
BEGIN:DAYLIGHT
TZOFFSETFROM:-0700
TZOFFSETTO:-0600
TZNAME:MDT
DTSTART:20240310T090000
END:DAYLIGHT
BEGIN:STANDARD
TZOFFSETFROM:-0600
TZOFFSETTO:-0700
TZNAME:MST
DTSTART:20241103T080000
END:STANDARD
BEGIN:DAYLIGHT
TZOFFSETFROM:-0700
TZOFFSETTO:-0600
TZNAME:MDT
DTSTART:20250309T090000
END:DAYLIGHT
BEGIN:STANDARD
TZOFFSETFROM:-0600
TZOFFSETTO:-0700
TZNAME:MST
DTSTART:20251102T080000
END:STANDARD
BEGIN:DAYLIGHT
TZOFFSETFROM:-0700
TZOFFSETTO:-0600
TZNAME:MDT
DTSTART:20260308T090000
END:DAYLIGHT
BEGIN:STANDARD
TZOFFSETFROM:-0600
TZOFFSETTO:-0700
TZNAME:MST
DTSTART:20261101T080000
END:STANDARD
END:VTIMEZONE
BEGIN:VEVENT
DTSTART;TZID=America/Edmonton:20251003T190000
DTEND;TZID=America/Edmonton:20251003T210000
DTSTAMP:20260422T165740
CREATED:20250917T171937Z
LAST-MODIFIED:20250917T171937Z
UID:27684-1759518000-1759525200@stampedtreasures.com
SUMMARY:Kit Together Night - October
DESCRIPTION: Kit Together Nights – Your Time to Craft & Connect!  \nNeed a little push to finish that kit you started months ago? Want to carve out time just for you to get creative and unwind? Join me for Kit Together Nights — a relaxing and fun evening dedicated to catching up on kits and projects in the company of fellow crafters! \n What is Kit Together Night?\nThis is your chance to gather with others and work on any crafting kit or unfinished project you’ve been meaning to complete — no pressure\, no schedule\, just a casual evening filled with creativity and community. Whether it’s card kits\, scrapbooking\, or something else\, this is the perfect excuse to finally open that box and get it done! \n Why You’ll Love It:\n\n\nTotally Free to Attend! \n\n\nWork on any kit or unfinished project \n\n\nGreat excuse to schedule “you” time \n\n\nMeet and craft alongside other makers \n\n\nOptional kits available for purchase on-site if you’re feeling inspired to start something new \n\n\n Just Bring:\n\n\nYour current project or kit \n\n\nBasic crafting tools (scissors\, adhesives\, etc.) \n\n\nYour creative spirit! \n\n\nWhether you’re catching up or starting fresh\, Kit Together Nights are the perfect way to recharge\, refocus\, and reconnect—with your creativity and with each other. \n\n Make plans to join us for an evening of crafty camaraderie. Because let’s be honest—crafting is more fun together! \n\nFriday October 3rd from 7pm to 9pm\nFriday November 7th from 7pm to 9pm\n\nNOTE: this will be held in my basement studio. You must be able to go up and down the stairs to attend. \n Location: Sherry’s Craft Studio (Sherwood Park) Questions? Reach out anytime — we’d love to hear from you! \nHope to see you on a kit night! \nSherry
URL:https://stampedtreasures.com/event/kit-together-night-october/
LOCATION:Sherry’s Stamp Studio
CATEGORIES:Kit Together Nights
ATTACH;FMTTYPE=image/jpeg:https://stampedtreasures.com/wp-content/uploads/2025/08/Kit-Together.jpg
ORGANIZER;CN="Sherry Roth":MAILTO:sherry@stampedtreasures.com
END:VEVENT
BEGIN:VEVENT
DTSTART;TZID=America/Edmonton:20251005T130000
DTEND;TZID=America/Edmonton:20251005T160000
DTSTAMP:20260422T165740
CREATED:20250812T123026Z
LAST-MODIFIED:20250911T184537Z
UID:27491-1759669200-1759680000@stampedtreasures.com
SUMMARY:Gift Bag Mini Album Class
DESCRIPTION:Get ready to turn your weekend memories into a creative keepsake you’ll treasure! If you’re looking for a project that’s fun\, interactive and totally unique\, you’ll fall in love with this paper bag mini album made using Stampin’ Up!’s Weekend Adventures scrapbooking workshop kit. \nThis charming little mini album uses kraft gift bags and envelopes to create pockets\, flips and pull-outs – perfect for tucking in your photos\, journaling\, tickets or summer mementos! \nWhat Makes this Mini Album Special?\n\nnteractive Design – think flip-outs\, hiddent tags and pocket pages\nHolds 20+ photos – Perfect for a weekend getaway\, day trip or your favourite summer memories.\nCoordinated Colours & Themes – Stampin’ Up!’s Weekend Adventures kit features bold outdoorsy colours\, cabin or lake vibes and plenty of pre-cut pieces and stickers.\nQuick to Make – finish in an afternoon!\nGift Worthy – makes a heartfelt handmade gift for family and friends\n\nSee a flip through of the album below. \n \nWho is this for?\nThis project is for: \n\nBeginners wanting to try scrapbooking without the overwhelm\nPaper crafters looking for something different\nCard makers ready to try mini albums\nCrafty moms or teachers planning summer keepsakes\n\nReady to create your own?\n\nJoin us for the Gift Bag Mini Album Class (in person). Class fee is $79 and includes all the consumable supplies you’ll need to make the album. Class will be held in my basement studio area in Sherwood Park\, AB on Sunday October 5th at 1pm. Register here.\nGet a kit to go. Kits can ship anywhere in Canada. Cost is $89. This includes all the supplies you’ll need to make the album as well as an emailed tutorial\, walking you through creating your album\, photos and a supply list. Request your kit.\nLive outside Canada? Purchase the tutorial here.\n\n \nBECAUSE YOU ASKED! Halloween version of this kit is now available to go! See a flip through of this version here. Request the Spooky Sweet kit to go here. Note this option will not include a cutting guide. But will include photos of the layouts\, measurements and a video walking you through assembling the album base. \nIn person class will be held on Sunday October 5th at 1pm.  \nDeadline to register is September 21st. \nThe Details\n\nRegistration closes September 21st\, 2025\nTo go kits will ship the first week of October.\n\nLet’s create a project full of flip-through joy and memory magic! \nUntil next time\,
URL:https://stampedtreasures.com/event/gift-bag-mini-album-class/
LOCATION:Sherry’s Stamp Studio
CATEGORIES:Scrapbooking
ATTACH;FMTTYPE=image/jpeg:https://stampedtreasures.com/wp-content/uploads/2025/08/Gift-Bag-Mini-Album-Graphic.jpg
ORGANIZER;CN="Sherry Roth":MAILTO:sherry@stampedtreasures.com
END:VEVENT
BEGIN:VEVENT
DTSTART;TZID=America/Edmonton:20251017T190000
DTEND;TZID=America/Edmonton:20251017T213000
DTSTAMP:20260422T165740
CREATED:20250917T174852Z
LAST-MODIFIED:20250917T174852Z
UID:27688-1760727600-1760736600@stampedtreasures.com
SUMMARY:Ornamental Christmas Card Class
DESCRIPTION:Get a head start on your holiday crafting and join us at the festive Ornamental Christmas card class! We’ll be using the beautiful Stampin’ Up!® Ornamental Christmas bundle and Modern Christmas specialty DSP to create 6 handmade holiday cards (2 each of 3 designs) that will wow your family and friends. \n What’s Included: \n\n\nCreate 6 stunning Christmas cards (envelopes included!) \n\n\nAll supplies pre-cut and ready to go \n\n\nStep-by-step instruction (perfect for beginners and seasoned crafters alike!) \n\n\nDoor prizes\, festive treats\, and holiday cheer! \n\n\nDate: Friday October 17th at 1pm or 7pm \nLocation: Sherwood Park \nCost:$45 includes 1/4 package of the Modern Christmas DSP; 1/2 pkg of the Gold Shaker Stars; 1/2 pkg of gold foil; 2 yards of the Gold Striped Mesh Ribbon and all additional supplies to create the 6 cards & envelopes. \nDeadline to register is October 5th\, 2025. \nThis class is available in person or to go. Kits can ship anywhere in Canada for $7. \n BONUS: Bring a friend who’s new to Stampin’ Up! and you’ll both receive a special gift! \nLet’s get a jump on some Christmas creativity. Spaces are limited\, so sign up early! \nReserve your place in class here. \nHope to see you at the Ornamental Christmas card class! \nSherry
URL:https://stampedtreasures.com/event/ornamental-christmas-card-class/
LOCATION:Sherry’s Stamp Studio
CATEGORIES:Card Classes
ATTACH;FMTTYPE=image/jpeg:https://stampedtreasures.com/wp-content/uploads/2025/09/Ornamental-Christmas-Card-Class.jpg
ORGANIZER;CN="Sherry Roth":MAILTO:sherry@stampedtreasures.com
END:VEVENT
END:VCALENDAR