BEGIN:VCALENDAR
VERSION:2.0
PRODID:-//Stamped Treasures, Sherry Roth, Stampin&#039; Up! Demonstrator - ECPv6.15.17.1//NONSGML v1.0//EN
CALSCALE:GREGORIAN
METHOD:PUBLISH
X-ORIGINAL-URL:https://stampedtreasures.com
X-WR-CALDESC:Events for Stamped Treasures, Sherry Roth, Stampin&#039; Up! Demonstrator
REFRESH-INTERVAL;VALUE=DURATION:PT1H
X-Robots-Tag:noindex
X-PUBLISHED-TTL:PT1H
BEGIN:VTIMEZONE
TZID:America/Edmonton
BEGIN:DAYLIGHT
TZOFFSETFROM:-0700
TZOFFSETTO:-0600
TZNAME:MDT
DTSTART:20240310T090000
END:DAYLIGHT
BEGIN:STANDARD
TZOFFSETFROM:-0600
TZOFFSETTO:-0700
TZNAME:MST
DTSTART:20241103T080000
END:STANDARD
BEGIN:DAYLIGHT
TZOFFSETFROM:-0700
TZOFFSETTO:-0600
TZNAME:MDT
DTSTART:20250309T090000
END:DAYLIGHT
BEGIN:STANDARD
TZOFFSETFROM:-0600
TZOFFSETTO:-0700
TZNAME:MST
DTSTART:20251102T080000
END:STANDARD
BEGIN:DAYLIGHT
TZOFFSETFROM:-0700
TZOFFSETTO:-0600
TZNAME:MDT
DTSTART:20260308T090000
END:DAYLIGHT
BEGIN:STANDARD
TZOFFSETFROM:-0600
TZOFFSETTO:-0700
TZNAME:MST
DTSTART:20261101T080000
END:STANDARD
END:VTIMEZONE
BEGIN:VEVENT
DTSTART;TZID=America/Edmonton:20250905T190000
DTEND;TZID=America/Edmonton:20250905T210000
DTSTAMP:20260422T183803
CREATED:20250801T213344Z
LAST-MODIFIED:20250802T045745Z
UID:27409-1757098800-1757106000@stampedtreasures.com
SUMMARY:Kit Together Nights
DESCRIPTION:🎨✨ Kit Together Nights – Your Time to Craft & Connect! ✨🎨 \nNeed a little push to finish that kit you started months ago? Want to carve out time just for you to get creative and unwind? Join me for Kit Together Nights — a relaxing and fun evening dedicated to catching up on kits and projects in the company of fellow crafters! \n🧵 What is Kit Together Night?\nThis is your chance to gather with others and work on any crafting kit or unfinished project you’ve been meaning to complete — no pressure\, no schedule\, just a casual evening filled with creativity and community. Whether it’s card kits\, scrapbooking\, or something else\, this is the perfect excuse to finally open that box and get it done! \n💖 Why You’ll Love It:\n\n\nTotally Free to Attend! \n\n\nWork on any kit or unfinished project \n\n\nGreat excuse to schedule “you” time \n\n\nMeet and craft alongside other makers \n\n\nOptional kits available for purchase on-site if you’re feeling inspired to start something new \n\n\n✂️ Just Bring:\n\n\nYour current project or kit \n\n\nBasic crafting tools (scissors\, adhesives\, etc.) \n\n\nYour creative spirit! \n\n\nWhether you’re catching up or starting fresh\, Kit Together Nights are the perfect way to recharge\, refocus\, and reconnect—with your creativity and with each other. \n\n🗓️ Make plans to join us for an evening of crafty camaraderie. Because let’s be honest—crafting is more fun together! \n\nFriday September 5th from 7pm to 9pm\nFriday October 3rd from 7pm to 9pm\nFriday November 7th from 7pm to 9pm\n\nNOTE: this will be held in my basement studio. You must be able to go up and down the stairs to attend. \n📍 Location: Sherry’s Craft Studio (Sherwood Park)💬 Questions? Reach out anytime — we’d love to hear from you! \nHope to see you on a kit night! \nSherry
URL:https://stampedtreasures.com/event/kit-together-nights/
LOCATION:Sherry’s Stamp Studio
CATEGORIES:Kit Together Nights
ATTACH;FMTTYPE=image/jpeg:https://stampedtreasures.com/wp-content/uploads/2025/08/Kit-Together.jpg
ORGANIZER;CN="Sherry Roth":MAILTO:sherry@stampedtreasures.com
END:VEVENT
BEGIN:VEVENT
DTSTART;TZID=America/Edmonton:20250919T190000
DTEND;TZID=America/Edmonton:20250919T213000
DTSTAMP:20260422T183803
CREATED:20250807T175659Z
LAST-MODIFIED:20250909T170010Z
UID:27451-1758308400-1758317400@stampedtreasures.com
SUMMARY:Elegant Pine Snowflake Card Class
DESCRIPTION:Get a head start on your holiday crafting and join us at the festive and fun Elegant Pine Snowflakes Christmas card class! We’ll be using the beautiful Stampin’ Up!® Delicate Pines bundle to create 6 handmade holiday cards (2 each of 3 designs) that will wow your family and friends. \n What’s Included: \n\n\nCreate 6 stunning Christmas cards (envelopes included!) \n\n\nAll supplies pre-cut and ready to go \n\n\nStep-by-step instruction (perfect for beginners and seasoned crafters alike!) \n\n\nDoor prizes\, festive treats\, and early holiday cheer! \n\n\nDate: Friday September 19th at 1pm or 7pm \nLocation: Sherwood Park \nCost:$45 (includes Faceted Snowflakes (166077); 2 yards of Shaded Spruce & Gold Edged Ribbon (166078); 1/2 package of the Elegant Pine Snowflakes DSP (166066) and all additional supplies to create the 6 cards & envelopes) \nDeadline to register is September 10th\, 2025. \nThis class is available in person or to go. Kits can ship anywhere in Canada for $6. \n BONUS: Bring a friend who’s new to Stampin’ Up! and you’ll both receive a special gift! \nLet’s get a jump on some Christmas creativity. Spaces are limited\, so sign up early! \nReserve your place in class here. \nHope to see you at the Elegant Pine Snowflakes Christmas card class! \nSherry
URL:https://stampedtreasures.com/event/elegant-pine-snowflake-card-class/
LOCATION:Sherry’s Stamp Studio
CATEGORIES:Card Classes
ATTACH;FMTTYPE=image/jpeg:https://stampedtreasures.com/wp-content/uploads/2025/08/Elegant-Pine-Snowflake-Card-Class.jpg
ORGANIZER;CN="Sherry Roth":MAILTO:sherry@stampedtreasures.com
END:VEVENT
BEGIN:VEVENT
DTSTART;TZID=America/Edmonton:20250927T113000
DTEND;TZID=America/Edmonton:20250927T140000
DTSTAMP:20260422T183803
CREATED:20250807T173221Z
LAST-MODIFIED:20250807T173221Z
UID:27448-1758972600-1758981600@stampedtreasures.com
SUMMARY:Creative Carnival - September 2025
DESCRIPTION:I’m so excited to invite you to our Creative Carnival – September 2025 Edition. This catalogue kick-off event is one you won’t want to miss! Myself and other local demonstrators are teaming up to provide you with a TON of inspiration from the upcoming September to December mini catalogue and new Online Exclusives.\n\n\n\nSo much product from the upcoming mini catalogue will be showcased with beautiful samples and actual product. We know from experience that it’s so much better to see products in person. There will be so many ideas and inspiration\, you’ll want to make sure your phone is fully charged so you can snap photos of all the fun projects.\n\n\nKeep up-to-date on Carnival happenings over in our Creative Carnival Yeg Facebook group.\nThe Details\n\n\nThe event will be held on Saturday September 27\, 2025 at Capilano Community League (in Edmonton)\, with two sessions to choose from. Each session has two choices:\n\nA $10 entrance fee that gives you access to the displays and\nA $28 entrance fee which gives you access to the displays\, 5 make & takes and 1/2 package of an embellishments. Make & takes will feature an assortment of products from the September to December mini catalogue. Kits must be requested at time of registration.\n\nThe two sessions are listed below. You pick what works for you. \n\nSession 1: 11:30 to 1:30pm\nSession 2: 2:00pm to 4pm\n\nMake & Take Kits\nWe will be featuring 5 different bundles from the September to December mini catalogue and online exclusives for the make & takes. If you participate in the make & take option\, you will receive the 5 card kits\, envelopes and 1/2 a package of an embellishment. Registration for the make & takes closes on September 12th\, 2025. \nReserve your spot today! \nHope to see you at the September creative carnival! \nUntil next time\,
URL:https://stampedtreasures.com/event/creative-carnival-september-2025/
LOCATION:Capilano Community League\, 10810 54 Street\, Edmonton\, Alberta\, T6A 2H9\, Canada
CATEGORIES:Card Classes
ATTACH;FMTTYPE=image/jpeg:https://stampedtreasures.com/wp-content/uploads/2025/08/Creative-Carnival-Sept.jpg
ORGANIZER;CN="Sherry Roth":MAILTO:sherry@stampedtreasures.com
END:VEVENT
END:VCALENDAR