BEGIN:VCALENDAR
VERSION:2.0
PRODID:-//Stamped Treasures, Sherry Roth, Stampin&#039; Up! Demonstrator - ECPv6.15.17.1//NONSGML v1.0//EN
CALSCALE:GREGORIAN
METHOD:PUBLISH
X-WR-CALNAME:Stamped Treasures, Sherry Roth, Stampin&#039; Up! Demonstrator
X-ORIGINAL-URL:https://stampedtreasures.com
X-WR-CALDESC:Events for Stamped Treasures, Sherry Roth, Stampin&#039; Up! Demonstrator
REFRESH-INTERVAL;VALUE=DURATION:PT1H
X-Robots-Tag:noindex
X-PUBLISHED-TTL:PT1H
BEGIN:VTIMEZONE
TZID:America/Edmonton
BEGIN:DAYLIGHT
TZOFFSETFROM:-0700
TZOFFSETTO:-0600
TZNAME:MDT
DTSTART:20180311T090000
END:DAYLIGHT
BEGIN:STANDARD
TZOFFSETFROM:-0600
TZOFFSETTO:-0700
TZNAME:MST
DTSTART:20181104T080000
END:STANDARD
BEGIN:DAYLIGHT
TZOFFSETFROM:-0700
TZOFFSETTO:-0600
TZNAME:MDT
DTSTART:20190310T090000
END:DAYLIGHT
BEGIN:STANDARD
TZOFFSETFROM:-0600
TZOFFSETTO:-0700
TZNAME:MST
DTSTART:20191103T080000
END:STANDARD
BEGIN:DAYLIGHT
TZOFFSETFROM:-0700
TZOFFSETTO:-0600
TZNAME:MDT
DTSTART:20200308T090000
END:DAYLIGHT
BEGIN:STANDARD
TZOFFSETFROM:-0600
TZOFFSETTO:-0700
TZNAME:MST
DTSTART:20201101T080000
END:STANDARD
END:VTIMEZONE
BEGIN:VEVENT
DTSTART;TZID=America/Edmonton:20190822T190000
DTEND;TZID=America/Edmonton:20190822T210000
DTSTAMP:20260425T210857
CREATED:20190730T201633Z
LAST-MODIFIED:20190731T185420Z
UID:11555-1566500400-1566507600@stampedtreasures.com
SUMMARY:Christmas in August Card Class
DESCRIPTION:  \n \nIt’s never too early to get a jump on your Christmas cards. In the Christmas in August class we’ll create 3 beautiful Christmas cards using a mix of new holiday catalogue products and annual catalogue products – including a couple sets you may not consider using for holiday cards! I’ll also be sharing how I use my catalogues for inspiration. \nYou’re $25 class fee includes: \n\nA package of noble peacock rhinestones – because Christmas cards can always use a little bling!\nAll pre cut supplies and envelopes to create 3 beautiful cards\nLight refreshments\n\nDeadline to participate in the in person class is August 12th. \nNote: This class is available at 9:30am or at 7pm.
URL:https://stampedtreasures.com/event/christmas-in-august-card-class/
LOCATION:Sherry’s Stamp Studio
ATTACH;FMTTYPE=image/jpeg:https://stampedtreasures.com/wp-content/uploads/2019/07/Christmas-in-August-1.jpeg
ORGANIZER;CN="Sherry Roth":MAILTO:sherry@stampedtreasures.com
END:VEVENT
BEGIN:VEVENT
DTSTART;TZID=America/Edmonton:20190815T190000
DTEND;TZID=America/Edmonton:20190815T210000
DTSTAMP:20260425T210857
CREATED:20190731T190424Z
LAST-MODIFIED:20190731T190424Z
UID:11639-1565895600-1565902800@stampedtreasures.com
SUMMARY:Dinoraur Layout of the Month Class
DESCRIPTION:Have little ones in your life that you’d like to scrapbook? This months Dinoraur scrapbooking class is perfect for that! Class is suitable for new and experienced scrapbookers. \nClass fee of $35 includes: \n\n1/2 package of the Dinoraur patterned paper\na package of the Dinoraur enamel shapes\n1 yard of the denim ribbon\nall additional supplies needed to create the layouts\n\nPlease bring basic tool kit\, photos and a paper cutter to class. \nDeadline to participate in the class is August 5th. \nClass is available at 9:30am\, 7 pm or to go (shipping extra).
URL:https://stampedtreasures.com/event/dinoraur-layout-of-the-month-class/
LOCATION:Sherry’s Stamp Studio
CATEGORIES:Scrapbooking
ATTACH;FMTTYPE=image/jpeg:https://stampedtreasures.com/wp-content/uploads/2019/07/IMG_4513-2.jpeg
ORGANIZER;CN="Sherry Roth":MAILTO:sherry@stampedtreasures.com
END:VEVENT
BEGIN:VEVENT
DTSTART;TZID=America/Edmonton:20190808T093000
DTEND;TZID=America/Edmonton:20190808T120000
DTSTAMP:20260425T210857
CREATED:20190731T184910Z
LAST-MODIFIED:20190731T185533Z
UID:11633-1565256600-1565265600@stampedtreasures.com
SUMMARY:Come Sail Away Card Class
DESCRIPTION:Looking for some masculine card ideas? The Come Sail Away Suite is FABULOUS for creating masculine projects. Join me at the Come Sail Away Card Class and we’ll create 4 cards using this amazing suite. \nClass fee is either $20 or free with a minimum $35 order placed in class. Want to participate but can’t attend the class? Simply place a minimum $35 order between now and August 8th using host code BZZZ79YH and I’ll ship you the pieces to create these cards and a link to a video showing you how they come together. \nNote: This class is available at 9:30am or at 7pm. \nPlease bring basic tool kit to class. \nDeadline to register is August 5th.
URL:https://stampedtreasures.com/event/come-sail-away-card-class/
LOCATION:Sherry’s Stamp Studio
CATEGORIES:Card Classes
ATTACH;FMTTYPE=image/jpeg:https://stampedtreasures.com/wp-content/uploads/2019/07/Come-Sail-Away-Class.jpeg
ORGANIZER;CN="Sherry Roth":MAILTO:sherry@stampedtreasures.com
END:VEVENT
END:VCALENDAR