BEGIN:VCALENDAR
VERSION:2.0
PRODID:-//Stamped Treasures, Sherry Roth, Stampin&#039; Up! Demonstrator - ECPv6.15.17.1//NONSGML v1.0//EN
CALSCALE:GREGORIAN
METHOD:PUBLISH
X-WR-CALNAME:Stamped Treasures, Sherry Roth, Stampin&#039; Up! Demonstrator
X-ORIGINAL-URL:https://stampedtreasures.com
X-WR-CALDESC:Events for Stamped Treasures, Sherry Roth, Stampin&#039; Up! Demonstrator
REFRESH-INTERVAL;VALUE=DURATION:PT1H
X-Robots-Tag:noindex
X-PUBLISHED-TTL:PT1H
BEGIN:VTIMEZONE
TZID:America/Edmonton
BEGIN:DAYLIGHT
TZOFFSETFROM:-0700
TZOFFSETTO:-0600
TZNAME:MDT
DTSTART:20180311T090000
END:DAYLIGHT
BEGIN:STANDARD
TZOFFSETFROM:-0600
TZOFFSETTO:-0700
TZNAME:MST
DTSTART:20181104T080000
END:STANDARD
BEGIN:DAYLIGHT
TZOFFSETFROM:-0700
TZOFFSETTO:-0600
TZNAME:MDT
DTSTART:20190310T090000
END:DAYLIGHT
BEGIN:STANDARD
TZOFFSETFROM:-0600
TZOFFSETTO:-0700
TZNAME:MST
DTSTART:20191103T080000
END:STANDARD
BEGIN:DAYLIGHT
TZOFFSETFROM:-0700
TZOFFSETTO:-0600
TZNAME:MDT
DTSTART:20200308T090000
END:DAYLIGHT
BEGIN:STANDARD
TZOFFSETFROM:-0600
TZOFFSETTO:-0700
TZNAME:MST
DTSTART:20201101T080000
END:STANDARD
END:VTIMEZONE
BEGIN:VEVENT
DTSTART;TZID=America/Edmonton:20191008T190000
DTEND;TZID=America/Edmonton:20191008T213000
DTSTAMP:20260425T054621
CREATED:20190731T192248Z
LAST-MODIFIED:20190731T192248Z
UID:11647-1570561200-1570570200@stampedtreasures.com
SUMMARY:Christmas Countdown Class
DESCRIPTION:Get ready for Christmas with hand-crafted advent decor. Fill the boxes with small treats and let the countdown begin. This will be a treasured piece of decor that you will use year after year. \nAll levels of stampers welcome. \nClass fee is $49 and includes everything you need to create the project – except adhesive. \nDeadline to participate in the class is September 23rd.
URL:https://stampedtreasures.com/event/christmas-countdown-class/
LOCATION:Sherry’s Stamp Studio
CATEGORIES:Home Decor
ATTACH;FMTTYPE=image/jpeg:https://stampedtreasures.com/wp-content/uploads/2019/07/IMG_4153-1.jpeg
ORGANIZER;CN="Sherry Roth":MAILTO:sherry@stampedtreasures.com
END:VEVENT
BEGIN:VEVENT
DTSTART;TZID=America/Edmonton:20191005T090000
DTEND;TZID=America/Edmonton:20191005T163000
DTSTAMP:20260425T054621
CREATED:20190731T191502Z
LAST-MODIFIED:20190731T191559Z
UID:11643-1570266000-1570293000@stampedtreasures.com
SUMMARY:Stamp Cafe
DESCRIPTION:Looking for some holiday inspiration? Come join us for a full day of Christmas crafting! \nYou’re $55 even fee includes: \n\n2 classes\nnew product demonstrations\nall attendee gift\ndoor prizes\ntons of inspiration\nlunch\ncoffee & snacks\n\nSupply list will be sent the week of the event. \nDeadline to register is September 22nd.
URL:https://stampedtreasures.com/event/stamp-cafe/
LOCATION:Steele Heights Baptist Church\, 5812 149 Avenue\, Edmonton\, Alberta\, T5A 3A7\, Canada
CATEGORIES:Card Classes
ATTACH;FMTTYPE=image/png:https://stampedtreasures.com/wp-content/uploads/2019/07/Want-to-be-inspired.png
ORGANIZER;CN="Sherry Roth":MAILTO:sherry@stampedtreasures.com
END:VEVENT
BEGIN:VEVENT
DTSTART;TZID=America/Edmonton:20190921T150000
DTEND;TZID=America/Edmonton:20190921T173000
DTSTAMP:20260425T054621
CREATED:20190819T220138Z
LAST-MODIFIED:20190819T220211Z
UID:12308-1569078000-1569087000@stampedtreasures.com
SUMMARY:Most Wonderful Time Class - Cards & Layouts
DESCRIPTION:Purchase the Most Wonderful Time Product Medley (p. 39) using host code FF7GFQKX (or email me) and you can attend this class for free! You’ll receive all the pre cut supplies to create 4 cards and a 2-page 12×12 scrapbook layout absolutely free! \nThe Most Wonderful Time Product Medley includes: \n\na stamp set\ncoordinating dies\n48 sheets of 6×6 specialty dsp\n12 gold foil card fronts\n7 sticker sheets\ngold tinsel trim\nadhesive backed gold stars\n\nAll this for just $95 + shipping & taxes. \nCan’t participate in the class? Order your kit online by September 12th using host code FF7GFQKX and I’ll send you the class kit and instructions absolutely free. NOTE: shipped kits will not include the 12×12 vanilla card stock but other than that everything will be included. \nDeadline to participate in the class is September 12th. \nAlready own the Most Wonderful Time Medley? Attend the class and create all the projects for just $25.
URL:https://stampedtreasures.com/event/most-wonderful-time-class/
LOCATION:Sherry’s Stamp Studio
CATEGORIES:Card Classes
ATTACH;FMTTYPE=image/jpeg:https://stampedtreasures.com/wp-content/uploads/2019/08/MWTCards.jpg
ORGANIZER;CN="Sherry Roth":MAILTO:sherry@stampedtreasures.com
END:VEVENT
BEGIN:VEVENT
DTSTART;TZID=America/Edmonton:20190921T120000
DTEND;TZID=America/Edmonton:20190921T143000
DTSTAMP:20260425T054621
CREATED:20190819T220637Z
LAST-MODIFIED:20190819T220637Z
UID:12314-1569067200-1569076200@stampedtreasures.com
SUMMARY:Night Before Christmas Mini Album & Card Class
DESCRIPTION:Come create a beautiful mini accordion album and 2 cards using the fun Night Before Christmas suite! \nClass fee is $25 and includes 1/2 a package of the Night Before Christmas 6×6 DSP and all additional supplies needed to create this beautiful holiday themed album and two cards. \nAlso available to go. Shipping extra. \nDeadline to participate in the class is September 12th.
URL:https://stampedtreasures.com/event/night-before-christmas-mini-album-card-class/
LOCATION:Sherry’s Stamp Studio
CATEGORIES:Scrapbooking
ATTACH;FMTTYPE=image/jpeg:https://stampedtreasures.com/wp-content/uploads/2019/08/Mini-Album-Class.jpg
ORGANIZER;CN="Sherry Roth":MAILTO:sherry@stampedtreasures.com
END:VEVENT
BEGIN:VEVENT
DTSTART;TZID=America/Edmonton:20190921T100000
DTEND;TZID=America/Edmonton:20190921T113000
DTSTAMP:20260425T054621
CREATED:20190819T214403Z
LAST-MODIFIED:20190819T214403Z
UID:12305-1569060000-1569065400@stampedtreasures.com
SUMMARY:Fall Frame Class
DESCRIPTION:Come create this beautiful fall themed home decor piece that will be something you look forward to pulling out year after year! \nClass fee is $20 and includes all the supplies needed to make the project\, including the frame. \nWant to make more than one? Each additional kit is $15. Note: you’ll only have time to make one in class\, the others will have to be assembled at home. \nNote: adhesive not provided. \nDeadline to participate is September 12th.
URL:https://stampedtreasures.com/event/fall-frame-class/
LOCATION:Sherry’s Stamp Studio
CATEGORIES:Home Decor
ATTACH;FMTTYPE=image/jpeg:https://stampedtreasures.com/wp-content/uploads/2019/08/Fall-Frame.jpg
ORGANIZER;CN="Sherry Roth":MAILTO:sherry@stampedtreasures.com
END:VEVENT
BEGIN:VEVENT
DTSTART;TZID=America/Edmonton:20190919T190000
DTEND;TZID=America/Edmonton:20190919T213000
DTSTAMP:20260425T054621
CREATED:20190817T021305Z
LAST-MODIFIED:20190817T021653Z
UID:12221-1568919600-1568928600@stampedtreasures.com
SUMMARY:Monster Bash Layout of the Month Class
DESCRIPTION:When: Thursday September 19th at either 9:30am OR 7pm \nWhere: Sherry’s Stampin’ Studio or available to go – participate anywhere in Canada \nCost: $40 (club members pay $35 – ask me how to become a club member) \nWhat are we making? 3 traditional 12 x 12 layouts and 1 pocket page layout (3 of which will be Halloween themed and 1 generic) \n \nWhat’s included? \n\nhalf a package of the Monster Bash DSP\na package of the Monster Bash Enamel Shapes\n1 yard of the basic black scallop edged ribbon\na pocket page\nall additional supplies needed to create the four layouts\nlink to a pdf that includes measurements and a video explaining any tips or techniques needed to put the layouts together\n\nReserve your spot in class today!
URL:https://stampedtreasures.com/event/monster-bash-layout-of-the-month-class/
LOCATION:Sherry’s Stamp Studio
CATEGORIES:Scrapbooking
ATTACH;FMTTYPE=image/jpeg:https://stampedtreasures.com/wp-content/uploads/2019/08/Monster-Bash-Layout-Class.jpg
ORGANIZER;CN="Sherry Roth":MAILTO:sherry@stampedtreasures.com
END:VEVENT
BEGIN:VEVENT
DTSTART;TZID=America/Edmonton:20190912T190000
DTEND;TZID=America/Edmonton:20190912T203000
DTSTAMP:20260425T054621
CREATED:20190819T221754Z
LAST-MODIFIED:20190819T221754Z
UID:12317-1568314800-1568320200@stampedtreasures.com
SUMMARY:Fall Themed Card Class
DESCRIPTION:Class is held twice – you choose what works for you –  9:30am OR 7pm. \nFall themed projects are some of my favourites! I love the colours\, I love leaves and pumpkins and the coziness that fall brings. Join me for some fall crafting at my September class where we’ll be playing with the Come to Gather suite from the Holiday Catalogue. We’ll be creating a couple birthday and a couple thank you cards but the greetings can be changed out to suite your needs! \nClass fee is $20 or free with a minimum $35 purchase. Ask me what’s involved in being a club member and you could earn the Stampin’ Rewards one of the months you’re a member. \nDeadline to RSVP is September 9th. \nNote: photos shows the suite. These are not the projects we will be making.
URL:https://stampedtreasures.com/event/fall-themed-card-class/
LOCATION:Sherry’s Stamp Studio
CATEGORIES:Card Classes
ATTACH;FMTTYPE=image/jpeg:https://stampedtreasures.com/wp-content/uploads/2019/08/Fall-Class.jpg
ORGANIZER;CN="Sherry Roth":MAILTO:sherry@stampedtreasures.com
END:VEVENT
BEGIN:VEVENT
DTSTART;TZID=America/Edmonton:20190822T190000
DTEND;TZID=America/Edmonton:20190822T210000
DTSTAMP:20260425T054621
CREATED:20190730T201633Z
LAST-MODIFIED:20190731T185420Z
UID:11555-1566500400-1566507600@stampedtreasures.com
SUMMARY:Christmas in August Card Class
DESCRIPTION:  \n \nIt’s never too early to get a jump on your Christmas cards. In the Christmas in August class we’ll create 3 beautiful Christmas cards using a mix of new holiday catalogue products and annual catalogue products – including a couple sets you may not consider using for holiday cards! I’ll also be sharing how I use my catalogues for inspiration. \nYou’re $25 class fee includes: \n\nA package of noble peacock rhinestones – because Christmas cards can always use a little bling!\nAll pre cut supplies and envelopes to create 3 beautiful cards\nLight refreshments\n\nDeadline to participate in the in person class is August 12th. \nNote: This class is available at 9:30am or at 7pm.
URL:https://stampedtreasures.com/event/christmas-in-august-card-class/
LOCATION:Sherry’s Stamp Studio
ATTACH;FMTTYPE=image/jpeg:https://stampedtreasures.com/wp-content/uploads/2019/07/Christmas-in-August-1.jpeg
ORGANIZER;CN="Sherry Roth":MAILTO:sherry@stampedtreasures.com
END:VEVENT
BEGIN:VEVENT
DTSTART;TZID=America/Edmonton:20190815T190000
DTEND;TZID=America/Edmonton:20190815T210000
DTSTAMP:20260425T054621
CREATED:20190731T190424Z
LAST-MODIFIED:20190731T190424Z
UID:11639-1565895600-1565902800@stampedtreasures.com
SUMMARY:Dinoraur Layout of the Month Class
DESCRIPTION:Have little ones in your life that you’d like to scrapbook? This months Dinoraur scrapbooking class is perfect for that! Class is suitable for new and experienced scrapbookers. \nClass fee of $35 includes: \n\n1/2 package of the Dinoraur patterned paper\na package of the Dinoraur enamel shapes\n1 yard of the denim ribbon\nall additional supplies needed to create the layouts\n\nPlease bring basic tool kit\, photos and a paper cutter to class. \nDeadline to participate in the class is August 5th. \nClass is available at 9:30am\, 7 pm or to go (shipping extra).
URL:https://stampedtreasures.com/event/dinoraur-layout-of-the-month-class/
LOCATION:Sherry’s Stamp Studio
CATEGORIES:Scrapbooking
ATTACH;FMTTYPE=image/jpeg:https://stampedtreasures.com/wp-content/uploads/2019/07/IMG_4513-2.jpeg
ORGANIZER;CN="Sherry Roth":MAILTO:sherry@stampedtreasures.com
END:VEVENT
BEGIN:VEVENT
DTSTART;TZID=America/Edmonton:20190808T093000
DTEND;TZID=America/Edmonton:20190808T120000
DTSTAMP:20260425T054621
CREATED:20190731T184910Z
LAST-MODIFIED:20190731T185533Z
UID:11633-1565256600-1565265600@stampedtreasures.com
SUMMARY:Come Sail Away Card Class
DESCRIPTION:Looking for some masculine card ideas? The Come Sail Away Suite is FABULOUS for creating masculine projects. Join me at the Come Sail Away Card Class and we’ll create 4 cards using this amazing suite. \nClass fee is either $20 or free with a minimum $35 order placed in class. Want to participate but can’t attend the class? Simply place a minimum $35 order between now and August 8th using host code BZZZ79YH and I’ll ship you the pieces to create these cards and a link to a video showing you how they come together. \nNote: This class is available at 9:30am or at 7pm. \nPlease bring basic tool kit to class. \nDeadline to register is August 5th.
URL:https://stampedtreasures.com/event/come-sail-away-card-class/
LOCATION:Sherry’s Stamp Studio
CATEGORIES:Card Classes
ATTACH;FMTTYPE=image/jpeg:https://stampedtreasures.com/wp-content/uploads/2019/07/Come-Sail-Away-Class.jpeg
ORGANIZER;CN="Sherry Roth":MAILTO:sherry@stampedtreasures.com
END:VEVENT
END:VCALENDAR