BEGIN:VCALENDAR
VERSION:2.0
PRODID:-//Stamped Treasures, Sherry Roth, Stampin&#039; Up! Demonstrator - ECPv6.15.17.1//NONSGML v1.0//EN
CALSCALE:GREGORIAN
METHOD:PUBLISH
X-WR-CALNAME:Stamped Treasures, Sherry Roth, Stampin&#039; Up! Demonstrator
X-ORIGINAL-URL:https://stampedtreasures.com
X-WR-CALDESC:Events for Stamped Treasures, Sherry Roth, Stampin&#039; Up! Demonstrator
REFRESH-INTERVAL;VALUE=DURATION:PT1H
X-Robots-Tag:noindex
X-PUBLISHED-TTL:PT1H
BEGIN:VTIMEZONE
TZID:America/Edmonton
BEGIN:DAYLIGHT
TZOFFSETFROM:-0700
TZOFFSETTO:-0600
TZNAME:MDT
DTSTART:20230312T090000
END:DAYLIGHT
BEGIN:STANDARD
TZOFFSETFROM:-0600
TZOFFSETTO:-0700
TZNAME:MST
DTSTART:20231105T080000
END:STANDARD
BEGIN:DAYLIGHT
TZOFFSETFROM:-0700
TZOFFSETTO:-0600
TZNAME:MDT
DTSTART:20240310T090000
END:DAYLIGHT
BEGIN:STANDARD
TZOFFSETFROM:-0600
TZOFFSETTO:-0700
TZNAME:MST
DTSTART:20241103T080000
END:STANDARD
BEGIN:DAYLIGHT
TZOFFSETFROM:-0700
TZOFFSETTO:-0600
TZNAME:MDT
DTSTART:20250309T090000
END:DAYLIGHT
BEGIN:STANDARD
TZOFFSETFROM:-0600
TZOFFSETTO:-0700
TZNAME:MST
DTSTART:20251102T080000
END:STANDARD
END:VTIMEZONE
BEGIN:VEVENT
DTSTART;TZID=America/Edmonton:20240503T170000
DTEND;TZID=America/Edmonton:20240504T200000
DTSTAMP:20260425T105941
CREATED:20240327T162931Z
LAST-MODIFIED:20240502T190246Z
UID:24736-1714755600-1714852800@stampedtreasures.com
SUMMARY:National Scrapbooking Day Virtual Retreat
DESCRIPTION:Come celebrate memory keeping at my upcoming National Scrapbooking Day Virtual Retreat. Join Donna Wizniuk & I for a day of inspiration and fun as we celebrate National Scrapbooking Day! \nThis virtual retreat offers an opportunity to connect with fellow crafters\, learn new techniques\, and create beautiful memories from the comfort of your own home. \n***Any and all paper crafters welcome – it doesn’t matter what product you use!*** \nWhat to Expect:\n\nFriday night crop to kick off the event (held on Zoom)\nDemonstrations showcasing some fun scrapbooking techniques\, tips & tricks\nProcess videos that will walk you through creating layouts from start to finish\nTips & tricks on how to use products in your stash\nFun challenges & games\nA private Facebook group where you can share your scrapbook layouts\, tips & tricks\nRaffle prizes and giveaways throughout the event\nEverything will be held in a private Facebook group that will remain open for you to go back and visit any of the content and continue to share your projects.\n\nHow to participate:\nOption 1: Place a minimum order of $60 (before shipping & taxes) using host code YMWURBER and your registration is free! \nOption 2: Pay a class fee of $35 CDN. This is a great option for anyone who lives outside of Canada! Use the Paypal link below to reserve your spot. \n \n\n \n  \nOption 3: Members of my Treasure Stampers team can participate for just $15. Payment can be made by etransfer or PayPal. \nNOTE: No specific supplies are needed for this retreat. The intent is to use what you have. We will be sharing details on what you’ll need to pull from your stash leading up to the event so that you have a productive retreat. We will be using a combination of new\, current and retired product. \nWhether you’re a seasoned scrapbooker or just starting out\, this retreat is designed to ignite your passion for preserving memories and storytelling. Mark your calendar and reserve your spot today! \nSee you at the retreat! \n\nShop my Canadian online store.\nPlace a minimum $60 order\, online\, using host code JQBKGPDV\,\nbetween January 30th\, 2025 and February 28th\, 2025\nand I'll send you a tutorial full of 16 project ideas to inspire your next crafty session.
URL:https://stampedtreasures.com/event/national-scrapbooking-day-virtual-retreat/
LOCATION:From the Comfort of Your Home
CATEGORIES:Scrapbooking,Virtual Events
ATTACH;FMTTYPE=image/jpeg:https://stampedtreasures.com/wp-content/uploads/2024/03/National-Scrapbooking-Day.jpg
ORGANIZER;CN="Sherry Roth":MAILTO:sherry@stampedtreasures.com
END:VEVENT
END:VCALENDAR