BEGIN:VCALENDAR
VERSION:2.0
PRODID:-//Stamped Treasures, Sherry Roth, Stampin&#039; Up! Demonstrator - ECPv6.15.17.1//NONSGML v1.0//EN
CALSCALE:GREGORIAN
METHOD:PUBLISH
X-ORIGINAL-URL:https://stampedtreasures.com
X-WR-CALDESC:Events for Stamped Treasures, Sherry Roth, Stampin&#039; Up! Demonstrator
REFRESH-INTERVAL;VALUE=DURATION:PT1H
X-Robots-Tag:noindex
X-PUBLISHED-TTL:PT1H
BEGIN:VTIMEZONE
TZID:America/Edmonton
BEGIN:DAYLIGHT
TZOFFSETFROM:-0700
TZOFFSETTO:-0600
TZNAME:MDT
DTSTART:20230312T090000
END:DAYLIGHT
BEGIN:STANDARD
TZOFFSETFROM:-0600
TZOFFSETTO:-0700
TZNAME:MST
DTSTART:20231105T080000
END:STANDARD
BEGIN:DAYLIGHT
TZOFFSETFROM:-0700
TZOFFSETTO:-0600
TZNAME:MDT
DTSTART:20240310T090000
END:DAYLIGHT
BEGIN:STANDARD
TZOFFSETFROM:-0600
TZOFFSETTO:-0700
TZNAME:MST
DTSTART:20241103T080000
END:STANDARD
BEGIN:DAYLIGHT
TZOFFSETFROM:-0700
TZOFFSETTO:-0600
TZNAME:MDT
DTSTART:20250309T090000
END:DAYLIGHT
BEGIN:STANDARD
TZOFFSETFROM:-0600
TZOFFSETTO:-0700
TZNAME:MST
DTSTART:20251102T080000
END:STANDARD
END:VTIMEZONE
BEGIN:VEVENT
DTSTART;TZID=America/Edmonton:20240615T090000
DTEND;TZID=America/Edmonton:20240615T210000
DTSTAMP:20260425T092413
CREATED:20240517T234843Z
LAST-MODIFIED:20240603T190608Z
UID:25024-1718442000-1718485200@stampedtreasures.com
SUMMARY:Summer Kick Off Crop
DESCRIPTION:Join us for a day of creative bliss at the summer kick off crop. Immerse yourself in a day of  creativity\, inspiration and endless possibilities. \nSpend the day (9am to 9pm) working on your own projects\, join us for a class or two or do both! \nWhen you attend as a cropper your $95 fee will include: \n\nA 6-foot table of crafting space\n$40 goodie bag\nAn exclusive to croppers make & take – using the supplies in your goodie bag\na couple little extra gifts from us\ndoor prizes\nspecial pricing on classes\nlunch\nwater/coffee/tea\nsnacks\n\nOptional Classes\nYou do not need to be a cropper to participate in either\, or both\, of the classes. \nTune In Card Class – 10am \nIn this class we’ll create 4 fun cards using the Tune In bundle (p. 67 of the A/C). This class is available in person (in Sherwood Park) or to go. Class fee of $25 ($15 for croppers) includes: \n\na package of embellishments\nall additional supplies needed to create the 4 cards\nEmailed pdf with links to videos showing you how they all come together\n\nAdd on the Tune In bundle for $57.50 and you save the shipping & GST. \n \nSummer Themed 2-Page Layout Class – 1pm \nIn this class we’ll create a 2-page summer themed scrapbook layout using the Bistro Burger bundle (p. 66 of the A/C). This class is available in person (in Sherwood Park) or to go. Class fee of $25 ($15 for croppers) includes: \n\n$8 to $10 in product\nall additional supplies needed to create the 2-page layout\nEmailed pdf with links to the video showing you how it all come together\n\nAdd on the Bistro Burger bundle for $63.75 and you save the shipping & GST. \nTo reserve your spot please fill in this form. \nSpace is limited. Your payment guarantees you spot. **Registration extended until June 5th*** \nCan’t attend but have a little FOMO? Get the crop package and classes to go! See the form linked above for options. \nHope to see you at the summer kick off crop! \n\nShop my Canadian online store.\nPlace a minimum $60 order\, online\, using host code JQBKGPDV\,\nbetween January 30th\, 2025 and February 28th\, 2025\nand I'll send you a tutorial full of 16 project ideas to inspire your next crafty session.
URL:https://stampedtreasures.com/event/summer-kick-off-crop/
LOCATION:Art Society of Strathcona County\, 590 Broadmoor Blvd\, Sherwood Park\, Alberta\, T8A4H8\, Canada
CATEGORIES:Crop
ATTACH;FMTTYPE=image/jpeg:https://stampedtreasures.com/wp-content/uploads/2024/05/Summer-Kick-Off-Crop-Flyer.jpg
ORGANIZER;CN="Sherry Roth":MAILTO:sherry@stampedtreasures.com
END:VEVENT
END:VCALENDAR