BEGIN:VCALENDAR
VERSION:2.0
PRODID:-//Stamped Treasures, Sherry Roth, Stampin&#039; Up! Demonstrator - ECPv6.15.17.1//NONSGML v1.0//EN
CALSCALE:GREGORIAN
METHOD:PUBLISH
X-WR-CALNAME:Stamped Treasures, Sherry Roth, Stampin&#039; Up! Demonstrator
X-ORIGINAL-URL:https://stampedtreasures.com
X-WR-CALDESC:Events for Stamped Treasures, Sherry Roth, Stampin&#039; Up! Demonstrator
REFRESH-INTERVAL;VALUE=DURATION:PT1H
X-Robots-Tag:noindex
X-PUBLISHED-TTL:PT1H
BEGIN:VTIMEZONE
TZID:America/Edmonton
BEGIN:DAYLIGHT
TZOFFSETFROM:-0700
TZOFFSETTO:-0600
TZNAME:MDT
DTSTART:20230312T090000
END:DAYLIGHT
BEGIN:STANDARD
TZOFFSETFROM:-0600
TZOFFSETTO:-0700
TZNAME:MST
DTSTART:20231105T080000
END:STANDARD
BEGIN:DAYLIGHT
TZOFFSETFROM:-0700
TZOFFSETTO:-0600
TZNAME:MDT
DTSTART:20240310T090000
END:DAYLIGHT
BEGIN:STANDARD
TZOFFSETFROM:-0600
TZOFFSETTO:-0700
TZNAME:MST
DTSTART:20241103T080000
END:STANDARD
BEGIN:DAYLIGHT
TZOFFSETFROM:-0700
TZOFFSETTO:-0600
TZNAME:MDT
DTSTART:20250309T090000
END:DAYLIGHT
BEGIN:STANDARD
TZOFFSETFROM:-0600
TZOFFSETTO:-0700
TZNAME:MST
DTSTART:20251102T080000
END:STANDARD
END:VTIMEZONE
BEGIN:VEVENT
DTSTART;VALUE=DATE:20240106
DTEND;VALUE=DATE:20240108
DTSTAMP:20260425T174819
CREATED:20231120T232501Z
LAST-MODIFIED:20231215T180605Z
UID:24030-1704499200-1704671999@stampedtreasures.com
SUMMARY:Sale-a-Bration Crop
DESCRIPTION:I’m so excited to announce the details of my upcoming Sale-a-Bration (SAB) Crop! This event offer the opportunity to attend as a cropper\, for one or two days\, and/or attend a class (or two). You choose what works best for you! \n1-Day Crop – Saturday from 10am to 10pm – $95\nEnjoy 1/2 of a 6 foot table of crafting space and the opportunity to craft from 10am to 10pm! This is the perfect opportunity to catch up on some crafty projects. Maybe you’ve got some class kits you haven’t had a chance to finish or just want some dedicated crafty time. \nIncludes: \n\n$40 goodie bag\nexclusive make & take project\nsnacks\, water & coffee\na couple little extra gifts from me\ndoor prizes & more\nspecial pricing on classes\nlunch\n\nNote: For dinner we can order pizza\, Pasta Pantry or there is a fridge if you’d like to bring your own meal. There are also lots of restaurants not far from the Art Society.\n2-Day Crop – Saturday from 10am to 10pm/Sunday from 10am to 8pm – $135\nEnjoy a full 6-foot table of crafting space!\nIncludes:\n\neverything listed above\nSunday lunch\neven more gifts\n\nPlease Register using the form below\nOptional Classes\n \nSale-a-Bration Card Class – Saturday January 6th at 11am \nIn this class we’ll create 4 cards with some of the fabulous new Sale-a-Bration products that will be available to order. Cost of the class is $25 for croppers or $35 for non croppers\, or free with a minimum $60 order! Class includes all precut supplies to create the 4 all occasion cards. \n \nVintage Scrapbook Class – Saturday January 6th at 2pm \nIn this class we’ll create a 2-page vintage scrapbook layout using some of the products from the Nature’s Sweetness suite from the upcoming January to April mini catalogue. Class fee includes $10 in product. Cost is $25 for croppers and $35 for non croppers. \nThe Details\n\nDeadline to register for the crop and/or optional classes is December 15th.\nAccommodation is not included for this crop. However\, there are several hotels close by if required.\nYou do not need to attend the crop to participate in the optional classes. Register for one or both.\nPayment is due at time of registration.\nSpace is limited.\nBoth classes\, and the crop option are available to go. Crop option includes all the gifts\, the exclusive make & take and the goodie bag. Shipping charges apply if kits require shipping.\nKits can be shipped anywhere in Canada.\nSneak peeks of the projects will be posted prior to the registration deadline.\n\n\nI hope to see you in class! \n\nShop my Canadian online store.\nPlace a minimum $60 order\, online\, using host code JQBKGPDV\,\nbetween January 30th\, 2025 and February 28th\, 2025\nand I'll send you a tutorial full of 16 project ideas to inspire your next crafty session.
URL:https://stampedtreasures.com/event/sale-a-bration-crop/
LOCATION:Art Society of Strathcona County\, 590 Broadmoor Blvd\, Sherwood Park\, Alberta\, T8A4H8\, Canada
CATEGORIES:Crop
ATTACH;FMTTYPE=image/jpeg:https://stampedtreasures.com/wp-content/uploads/2023/11/SALE-A-BRATION-CROP.jpg
ORGANIZER;CN="Sherry Roth":MAILTO:sherry@stampedtreasures.com
END:VEVENT
END:VCALENDAR